BEGIN:VCALENDAR
VERSION:2.0
PRODID:-//Stryker Sports Complex - ECPv6.15.17//NONSGML v1.0//EN
CALSCALE:GREGORIAN
METHOD:PUBLISH
X-WR-CALNAME:Stryker Sports Complex
X-ORIGINAL-URL:https://www.strykersportscomplex.com
X-WR-CALDESC:Events for Stryker Sports Complex
REFRESH-INTERVAL;VALUE=DURATION:PT1H
X-Robots-Tag:noindex
X-PUBLISHED-TTL:PT1H
BEGIN:VTIMEZONE
TZID:America/Chicago
BEGIN:DAYLIGHT
TZOFFSETFROM:-0600
TZOFFSETTO:-0500
TZNAME:CDT
DTSTART:20190310T080000
END:DAYLIGHT
BEGIN:STANDARD
TZOFFSETFROM:-0500
TZOFFSETTO:-0600
TZNAME:CST
DTSTART:20191103T070000
END:STANDARD
BEGIN:DAYLIGHT
TZOFFSETFROM:-0600
TZOFFSETTO:-0500
TZNAME:CDT
DTSTART:20200308T080000
END:DAYLIGHT
BEGIN:STANDARD
TZOFFSETFROM:-0500
TZOFFSETTO:-0600
TZNAME:CST
DTSTART:20201101T070000
END:STANDARD
BEGIN:DAYLIGHT
TZOFFSETFROM:-0600
TZOFFSETTO:-0500
TZNAME:CDT
DTSTART:20210314T080000
END:DAYLIGHT
BEGIN:STANDARD
TZOFFSETFROM:-0500
TZOFFSETTO:-0600
TZNAME:CST
DTSTART:20211107T070000
END:STANDARD
BEGIN:DAYLIGHT
TZOFFSETFROM:-0600
TZOFFSETTO:-0500
TZNAME:CDT
DTSTART:20220313T080000
END:DAYLIGHT
BEGIN:STANDARD
TZOFFSETFROM:-0500
TZOFFSETTO:-0600
TZNAME:CST
DTSTART:20221106T070000
END:STANDARD
BEGIN:DAYLIGHT
TZOFFSETFROM:-0600
TZOFFSETTO:-0500
TZNAME:CDT
DTSTART:20230312T080000
END:DAYLIGHT
BEGIN:STANDARD
TZOFFSETFROM:-0500
TZOFFSETTO:-0600
TZNAME:CST
DTSTART:20231105T070000
END:STANDARD
END:VTIMEZONE
BEGIN:VEVENT
DTSTART;TZID=America/Chicago:20220705T090000
DTEND;TZID=America/Chicago:20220705T150000
DTSTAMP:20260419T094330
CREATED:20220309T220546Z
LAST-MODIFIED:20220309T220627Z
UID:3218-1657011600-1657033200@www.strykersportscomplex.com
SUMMARY:Real Madrid Summer Soccer Camp
DESCRIPTION:Summer soccer camp designated and carried out by the Real Madrid Foundation is a unique and exciting opportunity to improve your soccer skills under the direction of Real Madrid UEFA licensed coaches\, have serious fun and make new friends. \nAges 6-17 \nClick here for more information and to register. \nSave up to $50 off if you register before April 1st!
URL:https://www.strykersportscomplex.com/event/real-madrid-summer-soccer-camp-2022-07-05/
LOCATION:Stryker Sports Complex\, 2999 N Greenwich\, Wichita\, KS\, 67226\, United States
CATEGORIES:Camps,Camps & Clinics,Clinics
END:VEVENT
BEGIN:VEVENT
DTSTART;TZID=America/Chicago:20220704T090000
DTEND;TZID=America/Chicago:20220704T150000
DTSTAMP:20260419T094330
CREATED:20220309T220546Z
LAST-MODIFIED:20220309T220627Z
UID:3217-1656925200-1656946800@www.strykersportscomplex.com
SUMMARY:Real Madrid Summer Soccer Camp
DESCRIPTION:Summer soccer camp designated and carried out by the Real Madrid Foundation is a unique and exciting opportunity to improve your soccer skills under the direction of Real Madrid UEFA licensed coaches\, have serious fun and make new friends. \nAges 6-17 \nClick here for more information and to register. \nSave up to $50 off if you register before April 1st!
URL:https://www.strykersportscomplex.com/event/real-madrid-summer-soccer-camp/
LOCATION:Stryker Sports Complex\, 2999 N Greenwich\, Wichita\, KS\, 67226\, United States
CATEGORIES:Camps,Camps & Clinics,Clinics
END:VEVENT
BEGIN:VEVENT
DTSTART;TZID=America/Chicago:20220317T090000
DTEND;TZID=America/Chicago:20220317T120000
DTSTAMP:20260419T094330
CREATED:20220309T221054Z
LAST-MODIFIED:20220309T221054Z
UID:3225-1647507600-1647518400@www.strykersportscomplex.com
SUMMARY:Spring Break Coerver Camp
DESCRIPTION:Coerver Soccer Camps are designed to help players become more comfortable on the ball. Players will receive over a thousand touches a day through 1v1 games\, small sided games and scrimmages. Our coaches promote a fun and energetic environment for all players of all skill levels. \nAges 6-14 \nClick here for more information and to register!
URL:https://www.strykersportscomplex.com/event/spring-break-coerver-camp-2022-03-17/
LOCATION:Stryker Sports Complex\, 2999 N Greenwich\, Wichita\, KS\, 67226\, United States
CATEGORIES:Camps,Camps & Clinics,Clinics
END:VEVENT
BEGIN:VEVENT
DTSTART;TZID=America/Chicago:20220316T100000
DTEND;TZID=America/Chicago:20220316T130000
DTSTAMP:20260419T094330
CREATED:20220309T221547Z
LAST-MODIFIED:20220309T221547Z
UID:3228-1647424800-1647435600@www.strykersportscomplex.com
SUMMARY:FC Wichita Spring Break Camp
DESCRIPTION:Join us for more soccer FUN by attending our 2022 Spring Break Camp. We offer the opportunity to enjoy games and activities through a combination of fun\, high intensity exercises and small sided games. \nAges 9-14 \nClick here for more information and to register.
URL:https://www.strykersportscomplex.com/event/fc-wichita-spring-break-camp-2022-03-16/
LOCATION:Stryker Sports Complex\, 2999 N Greenwich\, Wichita\, KS\, 67226\, United States
CATEGORIES:Camps,Camps & Clinics,Clinics
END:VEVENT
BEGIN:VEVENT
DTSTART;TZID=America/Chicago:20220316T090000
DTEND;TZID=America/Chicago:20220316T120000
DTSTAMP:20260419T094330
CREATED:20220309T221054Z
LAST-MODIFIED:20220309T221054Z
UID:3224-1647421200-1647432000@www.strykersportscomplex.com
SUMMARY:Spring Break Coerver Camp
DESCRIPTION:Coerver Soccer Camps are designed to help players become more comfortable on the ball. Players will receive over a thousand touches a day through 1v1 games\, small sided games and scrimmages. Our coaches promote a fun and energetic environment for all players of all skill levels. \nAges 6-14 \nClick here for more information and to register!
URL:https://www.strykersportscomplex.com/event/spring-break-coerver-camp-2022-03-16/
LOCATION:Stryker Sports Complex\, 2999 N Greenwich\, Wichita\, KS\, 67226\, United States
CATEGORIES:Camps,Camps & Clinics,Clinics
END:VEVENT
BEGIN:VEVENT
DTSTART;TZID=America/Chicago:20220315T100000
DTEND;TZID=America/Chicago:20220315T130000
DTSTAMP:20260419T094330
CREATED:20220309T221547Z
LAST-MODIFIED:20220309T221547Z
UID:3227-1647338400-1647349200@www.strykersportscomplex.com
SUMMARY:FC Wichita Spring Break Camp
DESCRIPTION:Join us for more soccer FUN by attending our 2022 Spring Break Camp. We offer the opportunity to enjoy games and activities through a combination of fun\, high intensity exercises and small sided games. \nAges 9-14 \nClick here for more information and to register.
URL:https://www.strykersportscomplex.com/event/fc-wichita-spring-break-camp-2022-03-15/
LOCATION:Stryker Sports Complex\, 2999 N Greenwich\, Wichita\, KS\, 67226\, United States
CATEGORIES:Camps,Camps & Clinics,Clinics
END:VEVENT
BEGIN:VEVENT
DTSTART;TZID=America/Chicago:20220315T090000
DTEND;TZID=America/Chicago:20220315T120000
DTSTAMP:20260419T094330
CREATED:20220309T221054Z
LAST-MODIFIED:20220309T221054Z
UID:3223-1647334800-1647345600@www.strykersportscomplex.com
SUMMARY:Spring Break Coerver Camp
DESCRIPTION:Coerver Soccer Camps are designed to help players become more comfortable on the ball. Players will receive over a thousand touches a day through 1v1 games\, small sided games and scrimmages. Our coaches promote a fun and energetic environment for all players of all skill levels. \nAges 6-14 \nClick here for more information and to register!
URL:https://www.strykersportscomplex.com/event/spring-break-coerver-camp-2022-03-15/
LOCATION:Stryker Sports Complex\, 2999 N Greenwich\, Wichita\, KS\, 67226\, United States
CATEGORIES:Camps,Camps & Clinics,Clinics
END:VEVENT
BEGIN:VEVENT
DTSTART;TZID=America/Chicago:20220314T100000
DTEND;TZID=America/Chicago:20220314T130000
DTSTAMP:20260419T094330
CREATED:20220309T221547Z
LAST-MODIFIED:20220309T221547Z
UID:3226-1647252000-1647262800@www.strykersportscomplex.com
SUMMARY:FC Wichita Spring Break Camp
DESCRIPTION:Join us for more soccer FUN by attending our 2022 Spring Break Camp. We offer the opportunity to enjoy games and activities through a combination of fun\, high intensity exercises and small sided games. \nAges 9-14 \nClick here for more information and to register.
URL:https://www.strykersportscomplex.com/event/fc-wichita-spring-break-camp/
LOCATION:Stryker Sports Complex\, 2999 N Greenwich\, Wichita\, KS\, 67226\, United States
CATEGORIES:Camps,Camps & Clinics,Clinics
END:VEVENT
BEGIN:VEVENT
DTSTART;TZID=America/Chicago:20220314T090000
DTEND;TZID=America/Chicago:20220314T120000
DTSTAMP:20260419T094330
CREATED:20220309T221054Z
LAST-MODIFIED:20220309T221054Z
UID:3222-1647248400-1647259200@www.strykersportscomplex.com
SUMMARY:Spring Break Coerver Camp
DESCRIPTION:Coerver Soccer Camps are designed to help players become more comfortable on the ball. Players will receive over a thousand touches a day through 1v1 games\, small sided games and scrimmages. Our coaches promote a fun and energetic environment for all players of all skill levels. \nAges 6-14 \nClick here for more information and to register!
URL:https://www.strykersportscomplex.com/event/spring-break-coerver-camp/
LOCATION:Stryker Sports Complex\, 2999 N Greenwich\, Wichita\, KS\, 67226\, United States
CATEGORIES:Camps,Camps & Clinics,Clinics
END:VEVENT
BEGIN:VEVENT
DTSTART;TZID=America/Chicago:20210712T090000
DTEND;TZID=America/Chicago:20210712T120000
DTSTAMP:20260419T094330
CREATED:20210601T200427Z
LAST-MODIFIED:20210601T200548Z
UID:2932-1626080400-1626091200@www.strykersportscomplex.com
SUMMARY:Sporting Kansas City Summer Camp
DESCRIPTION:Sporting KC Youth Soccer Camps are designed to meet players where they are in terms of development. \nAges 5-14y\n9:00am – 10:30am (5-7y) // $99\n9:00am – 12:00pm (8-14y) // $180 \nClick here for more information!
URL:https://www.strykersportscomplex.com/event/sporting-kansas-city-summer-camp/
LOCATION:KS
CATEGORIES:Camps,Camps & Clinics,Clinics
END:VEVENT
BEGIN:VEVENT
DTSTART;TZID=America/Chicago:20210618T090000
DTEND;TZID=America/Chicago:20210618T133000
DTSTAMP:20260419T094330
CREATED:20210601T195941Z
LAST-MODIFIED:20210601T195941Z
UID:2928-1624006800-1624023000@www.strykersportscomplex.com
SUMMARY:Butler CC Soccer College ID Camp
DESCRIPTION:Showcase in front of college coaches around the region. If you are serious about college soccer\, take advantage of a recruiting opportunity close to home\, you won’t want to miss this event! \nClick here to register.\nRegistration deadline is June 4.
URL:https://www.strykersportscomplex.com/event/butler-cc-soccer-college-id-camp/
LOCATION:KS
CATEGORIES:Camps,Camps & Clinics,Clinics
END:VEVENT
BEGIN:VEVENT
DTSTART;TZID=America/Chicago:20210617T080000
DTEND;TZID=America/Chicago:20210617T093000
DTSTAMP:20260419T094330
CREATED:20210601T194917Z
LAST-MODIFIED:20210601T195201Z
UID:2917-1623916800-1623922200@www.strykersportscomplex.com
SUMMARY:Elite Summer Training
DESCRIPTION:This summer\, train with coaches Adam Hunter\, Ernesto Alcantara\, Travis Stipp\, and Dylan Gruntzel at the Elite Summer Training! \nAges 7th grade to college. \nClick here to register.
URL:https://www.strykersportscomplex.com/event/elite-summer-training/
LOCATION:Stryker Sports Complex\, 2999 N Greenwich\, Wichita\, KS\, 67226\, United States
CATEGORIES:Camps,Camps & Clinics,Clinics
END:VEVENT
BEGIN:VEVENT
DTSTART;TZID=America/Chicago:20210315T090000
DTEND;TZID=America/Chicago:20210315T120000
DTSTAMP:20260419T094330
CREATED:20210301T010557Z
LAST-MODIFIED:20210304T035312Z
UID:2651-1615798800-1615809600@www.strykersportscomplex.com
SUMMARY:Coerver Spring Break Camp 1
DESCRIPTION:Coerver Camps focus on developing the individual player with different styles of moves. The camp is led by experienced coaches at the college and club level who focus on the player through individual activities and games. You can use code (75877) for $40 off of this Coerver Camp! \nClick here to register today!
URL:https://www.strykersportscomplex.com/event/coerver-spring-break-camp-1/
LOCATION:Stryker Sports Complex\, 2999 N Greenwich\, Wichita\, KS\, 67226\, United States
CATEGORIES:Camps,Camps & Clinics,Clinics
END:VEVENT
BEGIN:VEVENT
DTSTART;TZID=America/Chicago:20200726T070000
DTEND;TZID=America/Chicago:20200726T190000
DTSTAMP:20260419T094330
CREATED:20200624T210857Z
LAST-MODIFIED:20200624T212007Z
UID:2033-1595746800-1595790000@www.strykersportscomplex.com
SUMMARY:Top 200 Football
DESCRIPTION:High School players with strong desire to play college football. \nJuly 26th\, 2020 \n$200 a session \nMorning Session\n7:45 am – Check-in\n8:30 am – Top 200 Begins – Introductions\n8:45 am – Dynamic Warm-up\n9:15 am – Metric Testing – Speed\n10:15 am – Position Specific Instruction\n11:15 am – Additional Metric Testing – Agility\n12:15 pm – Review and discussion with college coaches\n1:00 pm – Morning Session is dismissed \nAfternoon Session\n1:15 pm– Check-in\n2:00 pm – Top 200 Begins – Introductions\n2:15 pm – Dynamic Warm-up\n2:45 pm – Metric Testing – Speed\n3:45 pm – Position Specific Instruction\n4:45 pm – Additional Metric Testing – Agility\n5:45 pm – Review and discussion with college coaches\n6:30 pm – Afternoon Session is dismissed \n  \nRegister Here\n  \n  \n 
URL:https://www.strykersportscomplex.com/event/top-200-football/
LOCATION:Stryker Sports Complex\, 2999 N Greenwich\, Wichita\, KS\, 67226\, United States
CATEGORIES:Camps,Camps & Clinics,Clinics,Events
END:VEVENT
BEGIN:VEVENT
DTSTART;TZID=America/Chicago:20200725T090000
DTEND;TZID=America/Chicago:20200725T150000
DTSTAMP:20260419T094330
CREATED:20200629T221545Z
LAST-MODIFIED:20200714T002254Z
UID:2041-1595667600-1595689200@www.strykersportscomplex.com
SUMMARY:ELC Ref Class
DESCRIPTION:Stryker Sports Complex Referee Class!! \nIndoor Building July 25th from 9:00am to 3:00pm \nRegister Here!!! \n 
URL:https://www.strykersportscomplex.com/event/elc-ref-class/
LOCATION:Stryker Sports Complex\, 2999 N Greenwich\, Wichita\, KS\, 67226\, United States
CATEGORIES:Clinics,Referees
END:VEVENT
BEGIN:VEVENT
DTSTART;TZID=America/Chicago:20200706T180000
DTEND;TZID=America/Chicago:20200708T200000
DTSTAMP:20260419T094330
CREATED:20200626T155036Z
LAST-MODIFIED:20200626T155106Z
UID:2037-1594058400-1594238400@www.strykersportscomplex.com
SUMMARY:FC Wichita Summer Camp
DESCRIPTION:July 6th to July 8th 6:00 PM to 8:00 PM\nAges 5 to 13\nCosts $100\nStryker Sports Complex (Indoor) \nRegister Here!!! \n                                                                          
URL:https://www.strykersportscomplex.com/event/fc-wichita-summer-camp/
LOCATION:Stryker Sports Complex\, 2999 N Greenwich\, Wichita\, KS\, 67226\, United States
CATEGORIES:Camps,Camps & Clinics,Clinics
END:VEVENT
END:VCALENDAR